BEGIN:VCALENDAR
VERSION:2.0
PRODID:-//eventon.com NONSGML v1.0//EN
BEGIN:VEVENT
UID:69ea19cd2256f
DTSTAMP:20260423T150829
DTSTART:20161125T100000Z
DTEND:20161125T130000Z
LOCATION:Parroquia de la Inmaculada y San Pedro Pascual Ctra de Jabalcuz\,  2\,  23160 Jaén
SUMMARY:Procesión de Santa Catalina
DESCRIPTION: Traslado en procesión de Santa Catalina desde su parroquia hasta la Plaza de Armas del Castillo. Tras la procesión\,  sobre las 12.00h\,  celebración de la Eucaristía.
URL:https://pasionenjaen.com/events/procesion-de-santa-catalina/
END:VEVENT
END:VCALENDAR