BEGIN:VCALENDAR
VERSION:2.0
PRODID:-//eventon.com NONSGML v1.0//EN
BEGIN:VEVENT
UID:69ea43ce13779
DTSTAMP:20260423T180742
DTSTART:20161119T190000Z
DTEND:20161119T203000Z
LOCATION:Teatro Darymelia Calle Colón\,  6\,  Jaén
SUMMARY:Pregón a Santa Catalina de Alejandría
DESCRIPTION: Pregonero: Mario Castellano Marchal
URL:https://pasionenjaen.com/events/pregon-a-santa-catalina-de-alejandria/
END:VEVENT
END:VCALENDAR