BEGIN:VCALENDAR
VERSION:2.0
PRODID:-//eventon.com NONSGML v1.0//EN
BEGIN:VEVENT
UID:69ea44704f737
DTSTAMP:20260423T181024
DTSTART:20161113T100000Z
DTEND:20161113T200000Z
LOCATION:Parroquia de Cristo Rey Cristo Rey 2\,  Jaén
SUMMARY:Besamanos a María Stma. Madre de Dios
DESCRIPTION: En horario ininterrumpido (excepto el horario de misa).
URL:https://pasionenjaen.com/events/besamanos-a-maria-stma-madre-de-dios-2/
END:VEVENT
END:VCALENDAR