BEGIN:VCALENDAR
VERSION:2.0
PRODID:-//eventon.com NONSGML v1.0//EN
BEGIN:VEVENT
UID:69ea59fd731b0
DTSTAMP:20260423T194221
DTSTART:20161113T190000Z
DTEND:20161113T200000Z
LOCATION:Parroquia de Cristo Rey Cristo Rey 2\,  Jaén
SUMMARY:Triduo a María Stma. Madre de Dios - Día 3
DESCRIPTION: Estará presidido por el Rvdo. Sr. D. Ildefonso Rueda Jándula. El orden de cultos dará comienzo media hora antes con el rezo del Santo Rosario\,  continuando con la Solemne Eucaristía. Tras la cual Exposición del Santísimo Sacramento\,  Ejercicio del Triduo\,  Bendición\,  Reserva Solemne y Canto de la Salve a María Santísima Madre[..]
URL:https://pasionenjaen.com/events/triduo-a-maria-stma-madre-de-dios-dia-3-2/
END:VEVENT
END:VCALENDAR