BEGIN:VCALENDAR
VERSION:2.0
PRODID:-//eventon.com NONSGML v1.0//EN
BEGIN:VEVENT
UID:69ea737880605
DTSTAMP:20260423T213104
DTSTART:20161112T200000Z
DTEND:20161112T210000Z
LOCATION:Parroquia de Cristo Rey Cristo Rey 2\,  Jaén
SUMMARY:Triduo a María Stma. Madre de Dios - Día 2
DESCRIPTION: Estará presidido por el Rvdo. Sr. D. Ildefonso Rueda Jándula. El orden de cultos dará comienzo media hora antes con el rezo del Santo Rosario\,  continuando con la Solemne Eucaristía. Tras la cual Exposición del Santísimo Sacramento\,  Ejercicio del Triduo\,  Bendición\,  Reserva Solemne y Canto de la Salve a María Santísima Madre[..]
URL:https://pasionenjaen.com/events/triduo-a-maria-stma-madre-de-dios-dia-2-2/
END:VEVENT
END:VCALENDAR