BEGIN:VCALENDAR
VERSION:2.0
PRODID:-//eventon.com NONSGML v1.0//EN
BEGIN:VEVENT
UID:69eaad9a663a3
DTSTAMP:20260424T013906
DTSTART:20161120T160000Z
DTEND:20161120T180000Z
LOCATION:Parroquia El Salvador Avenida Eduardo García Maroto\,  9\,  23006 Jaén
SUMMARY:Igualá general Pasión y Amargura
DESCRIPTION: 16:00 horas\,  paso de Misterio. 18:00 horas\,  paso de palio.
URL:https://pasionenjaen.com/events/iguala-general-pasion-y-amargura/
END:VEVENT
END:VCALENDAR