BEGIN:VCALENDAR
VERSION:2.0
PRODID:-//eventon.com NONSGML v1.0//EN
BEGIN:VEVENT
UID:69eab18a7e307
DTSTAMP:20260424T015554
DTSTART:20161113T120000Z
DTEND:20161113T133000Z
LOCATION:Iglesia Conventual de la Purísima Concepción Calle Pilar de la Imprenta\,  Jaén
SUMMARY:Triduo a María Stma. de la Estrella - Día 3
DESCRIPTION: Triduo a María Stma. de la Estrella - Día 3
URL:https://pasionenjaen.com/events/triduo-a-maria-stma-de-la-estrella-dia-3-2/
END:VEVENT
END:VCALENDAR