BEGIN:VCALENDAR
VERSION:2.0
PRODID:-//eventon.com NONSGML v1.0//EN
BEGIN:VEVENT
UID:69eac46d3d6d1
DTSTAMP:20260424T031629
DTSTART:20161112T193000Z
DTEND:20161112T210000Z
LOCATION:Iglesia Conventual de la Purísima Concepción Calle Pilar de la Imprenta\,  Jaén
SUMMARY:Triduo a María Stma. de la Estrella - Día 2
DESCRIPTION: Triduo a María Stma. de la Estrella - Día 2
URL:https://pasionenjaen.com/events/triduo-a-maria-stma-de-la-estrella-dia-2-2/
END:VEVENT
END:VCALENDAR