BEGIN:VCALENDAR
VERSION:2.0
PRODID:-//eventon.com NONSGML v1.0//EN
BEGIN:VEVENT
UID:69ead9fc57455
DTSTAMP:20260424T044828
DTSTART:20161111T193000Z
DTEND:20161111T210000Z
LOCATION:Iglesia Conventual de la Purísima Concepción Calle Pilar de la Imprenta\,  Jaén
SUMMARY:Triduo a María Stma. de la Estrella - Día 1
DESCRIPTION: Triduo a María Stma. de la Estrella - Día 1
URL:https://pasionenjaen.com/events/triduo-a-maria-stma-de-la-estrella-dia-1-2/
END:VEVENT
END:VCALENDAR