BEGIN:VCALENDAR
VERSION:2.0
PRODID:-//eventon.com NONSGML v1.0//EN
BEGIN:VEVENT
UID:69eaf0bff33a5
DTSTAMP:20260424T062535
DTSTART:20161106T110000Z
DTEND:20161106T150000Z
LOCATION:El Neveral Carretera al Neveral\,  1\,  23004 Jaén
SUMMARY:I Ruta de Senderismo Solidario Salud y Paz
DESCRIPTION: Organizado por la Vocalía de Caridad de la Hermandad de la Borriquilla. Todo lo recaudado a beneficio de ASPACE (Asociación para la Atención a la Parálisis Cerebral). Coste de 5€. 5 km por parajes cercanos al Neveral. Comida\,  avituallamiento\,  dorsal\,  regalos\,  zona lúdica para niños&#8230; Inscripción en www.hermandadsaludypaz.org/senderismo &nbsp;
URL:https://pasionenjaen.com/events/i-ruta-de-senderismo-solidario-salud-y-paz/
END:VEVENT
END:VCALENDAR