BEGIN:VCALENDAR
VERSION:2.0
PRODID:-//eventon.com NONSGML v1.0//EN
BEGIN:VEVENT
UID:69eb07ad5ae21
DTSTAMP:20260424T080325
DTSTART:20161103T190000Z
DTEND:20161103T200000Z
LOCATION:Parroquia de San Bartolomé Plaza de San Bartolomé\,  Jaén
SUMMARY:Solemne Triduo de Ánimas - Día 3
DESCRIPTION: Rezo del Santo Rosario 18:30h. Eucaristía 19:00h.
URL:https://pasionenjaen.com/events/solemne-triduo-de-animas-dia-3/
END:VEVENT
END:VCALENDAR