BEGIN:VCALENDAR
VERSION:2.0
PRODID:-//eventon.com NONSGML v1.0//EN
BEGIN:VEVENT
UID:69eb1e78affb4
DTSTAMP:20260424T094040
DTSTART:20161102T190000Z
DTEND:20161102T200000Z
LOCATION:Parroquia de San Bartolomé Plaza de San Bartolomé\,  Jaén
SUMMARY:Solemne Triduo de Ánimas - Día 2
DESCRIPTION: Rezo del Santo Rosario 18:30h. Eucaristía 19:00h.
URL:https://pasionenjaen.com/events/solemne-triduo-de-animas-dia-2/
END:VEVENT
END:VCALENDAR