BEGIN:VCALENDAR
VERSION:2.0
PRODID:-//eventon.com NONSGML v1.0//EN
BEGIN:VEVENT
UID:69eb32c6a7b33
DTSTAMP:20260424T110718
DTSTART:20161101T190000Z
DTEND:20161101T200000Z
LOCATION:Parroquia de San Bartolomé Plaza de San Bartolomé\,  Jaén
SUMMARY:Solemne Triduo de Ánimas - Día 1
DESCRIPTION: Rezo del Santo Rosario 18:30h. Eucaristía 19:00h.
URL:https://pasionenjaen.com/events/solemne-triduo-de-animas-dia-1/
END:VEVENT
END:VCALENDAR