BEGIN:VCALENDAR
VERSION:2.0
PRODID:-//eventon.com NONSGML v1.0//EN
BEGIN:VEVENT
UID:69eb47d3e0846
DTSTAMP:20260424T123707
DTSTART:20161030T190000Z
DTEND:20161030T200000Z
LOCATION:Parroquia de Santa Isabel Plaza de Santa Isabel\,  s/n\,  Jaén
SUMMARY:Rosario Vespertino de María Stma. de la Trinidad
DESCRIPTION: Rosario Vespertino de María Stma. de la Trinidad
URL:https://pasionenjaen.com/events/rosario-vespertino-de-maria-stma-de-la-trinidad-3/
END:VEVENT
END:VCALENDAR