BEGIN:VCALENDAR
VERSION:2.0
PRODID:-//eventon.com NONSGML v1.0//EN
BEGIN:VEVENT
UID:69eb5cf35473d
DTSTAMP:20260424T140715
DTSTART:20161028T203000Z
DTEND:20161028T213000Z
LOCATION:Agrupación de Cofradías Calle Bernardo López 6\,  Jaén
SUMMARY:Proyección de diapositivas: "Siguiendo tu luz\,  Estrella"
DESCRIPTION: Con motivo del LX Aniversario de la Bendición de María Stma. de la Estrella
URL:https://pasionenjaen.com/events/proyeccion-de-diapositivas-siguiendo-tu-luz-estrella/
END:VEVENT
END:VCALENDAR