BEGIN:VCALENDAR
VERSION:2.0
PRODID:-//eventon.com NONSGML v1.0//EN
BEGIN:VEVENT
UID:69eb6fc1717a9
DTSTAMP:20260424T152729
DTSTART:20161026T203000Z
DTEND:20161026T213000Z
LOCATION:Bar El Cantón 
SUMMARY:Reunión de costaleros de Jesús de la Caridad
DESCRIPTION: Reunión de costaleros de Jesús de la Caridad
URL:https://pasionenjaen.com/events/reunion-de-costaleros-de-jesus-de-la-caridad/
END:VEVENT
END:VCALENDAR