BEGIN:VCALENDAR
VERSION:2.0
PRODID:-//eventon.com NONSGML v1.0//EN
BEGIN:VEVENT
UID:69eb86d1070df
DTSTAMP:20260424T170553
DTSTART:20161030T120000Z
DTEND:20161030T180000Z
LOCATION:Residencia Caridad y Consolación de Jaén Calle Juan Pablo II\,  23009 Jaén
SUMMARY:I Encuentro de mujeres costaleras de Jaén
DESCRIPTION: I Encuentro de mujeres costaleras de Jaén
URL:https://pasionenjaen.com/events/i-encuentro-de-mujeres-costaleras-de-jaen/
END:VEVENT
END:VCALENDAR