BEGIN:VCALENDAR
VERSION:2.0
PRODID:-//eventon.com NONSGML v1.0//EN
BEGIN:VEVENT
UID:69eb9915966e2
DTSTAMP:20260424T182349
DTSTART:20161029T103000Z
DTEND:20161029T190000Z
LOCATION:Parroquia de San Eufrasio Plaza San Félix\,  1\,  Jaén
SUMMARY:Besamanos a María Stma. de la Encarnación
DESCRIPTION: Horario: De 10:30 a 13:30 horas\,  y de 17:00 a 19:00 horas.
URL:https://pasionenjaen.com/events/besamanos-a-maria-stma-de-la-encarnacion/
END:VEVENT
END:VCALENDAR