BEGIN:VCALENDAR
VERSION:2.0
PRODID:-//eventon.com NONSGML v1.0//EN
BEGIN:VEVENT
UID:69ebae061a5f0
DTSTAMP:20260424T195310
DTSTART:20161029T190000Z
DTEND:20161029T200000Z
LOCATION:Parroquia de San Eufrasio Plaza San Félix\,  1\,  Jaén
SUMMARY:Triduo a María Stma. de la Encarnación - Día 3
DESCRIPTION: Triduo a María Stma. de la Encarnación - Día 3
URL:https://pasionenjaen.com/events/triduo-a-maria-stma-de-la-encarnacion-dia-3/
END:VEVENT
END:VCALENDAR