BEGIN:VCALENDAR
VERSION:2.0
PRODID:-//eventon.com NONSGML v1.0//EN
BEGIN:VEVENT
UID:69ebc29ada3da
DTSTAMP:20260424T212058
DTSTART:20161028T190000Z
DTEND:20161028T200000Z
LOCATION:Parroquia de San Eufrasio Plaza San Félix\,  1\,  Jaén
SUMMARY:Triduo a María Stma. de la Encarnación - Día 2
DESCRIPTION: Triduo a María Stma. de la Encarnación - Día 2
URL:https://pasionenjaen.com/events/triduo-a-maria-stma-de-la-encarnacion-dia-2/
END:VEVENT
END:VCALENDAR