BEGIN:VCALENDAR
VERSION:2.0
PRODID:-//eventon.com NONSGML v1.0//EN
BEGIN:VEVENT
UID:69ebd7a59e007
DTSTAMP:20260424T225045
DTSTART:20161027T190000Z
DTEND:20161027T200000Z
LOCATION:Parroquia de San Eufrasio Plaza San Félix\,  1\,  Jaén
SUMMARY:Triduo a María Stma. de la Encarnación - Día 1
DESCRIPTION: Triduo a María Stma. de la Encarnación - Día 1
URL:https://pasionenjaen.com/events/triduo-a-maria-stma-de-la-encarnacion-dia-1/
END:VEVENT
END:VCALENDAR