BEGIN:VCALENDAR
VERSION:2.0
PRODID:-//eventon.com NONSGML v1.0//EN
BEGIN:VEVENT
UID:69ec02c0bf14e
DTSTAMP:20260425T015440
DTSTART:20161022T193000Z
DTEND:20161022T203000Z
LOCATION:Basílica Menor de San Ildefonso Plaza de San Ildefonso\,  Jaén
SUMMARY:Eucaristía de inicio del curso cofrade
DESCRIPTION: Eucaristía de inicio del curso cofrade
URL:https://pasionenjaen.com/events/eucaristia-de-inicio-del-curso-cofrade/
END:VEVENT
END:VCALENDAR