BEGIN:VCALENDAR
VERSION:2.0
PRODID:-//eventon.com NONSGML v1.0//EN
BEGIN:VEVENT
UID:69ec02f99899c
DTSTAMP:20260425T015537
DTSTART:20161027T203000Z
DTEND:20161027T211500Z
LOCATION:Agrupación de Cofradías Calle Bernardo López 6\,  Jaén
SUMMARY:Presentación del nº 37 de Pasión y Gloria
DESCRIPTION: Presentación del nº 37 de Pasión y Gloria
URL:https://pasionenjaen.com/events/presentacion-del-no-37-de-pasion-y-gloria/
END:VEVENT
END:VCALENDAR