BEGIN:VCALENDAR
VERSION:2.0
PRODID:-//eventon.com NONSGML v1.0//EN
BEGIN:VEVENT
UID:69ec1c1397e9e
DTSTAMP:20260425T034243
DTSTART:20161024T110000Z
DTEND:20161024T130000Z
LOCATION:Parroquia de Santa Isabel Plaza de Santa Isabel\,  s/n\,  Jaén
SUMMARY:Besapié a Jesús Cautivo  - Día 2
DESCRIPTION: Besapié a Jesús Cautivo  - Día 2
URL:https://pasionenjaen.com/events/besapie-a-jesus-cautivo-dia-2/
END:VEVENT
END:VCALENDAR