BEGIN:VCALENDAR
VERSION:2.0
PRODID:-//eventon.com NONSGML v1.0//EN
BEGIN:VEVENT
UID:69ec316779e8f
DTSTAMP:20260425T051343
DTSTART:20161023T100000Z
DTEND:20161023T200000Z
LOCATION:Parroquia de Santa Isabel Plaza de Santa Isabel\,  s/n\,  Jaén
SUMMARY:Besapié a Jesús Cautivo - Día 1
DESCRIPTION: Salvo en horario de Misa
URL:https://pasionenjaen.com/events/besapie-a-jesus-cautivo-dia-1/
END:VEVENT
END:VCALENDAR