BEGIN:VCALENDAR
VERSION:2.0
PRODID:-//eventon.com NONSGML v1.0//EN
BEGIN:VEVENT
UID:69eca18e1dc05
DTSTAMP:20260425T131214
DTSTART:20161007T190000Z
DTEND:20161007T203000Z
LOCATION:Parroquia de San Eufrasio Plaza San Félix\,  1\,  Jaén
SUMMARY:Quinario a María Stma. Reina de los Ángeles - Día 3
DESCRIPTION: Quinario a María Stma. Reina de los Ángeles - Día 3
URL:https://pasionenjaen.com/events/quinario-a-maria-stma-reina-de-los-angeles-dia-3/
END:VEVENT
END:VCALENDAR