BEGIN:VCALENDAR
VERSION:2.0
PRODID:-//eventon.com NONSGML v1.0//EN
BEGIN:VEVENT
UID:69ecb857065a6
DTSTAMP:20260425T144927
DTSTART:20161006T190000Z
DTEND:20161006T203000Z
LOCATION:Parroquia de San Eufrasio Plaza San Félix\,  1\,  Jaén
SUMMARY:Quinario a María Stma. Reina de los Ángeles - Día 2
DESCRIPTION: Quinario a María Stma. Reina de los Ángeles - Día 2
URL:https://pasionenjaen.com/events/quinario-a-maria-stma-reina-de-los-angeles-dia-2/
END:VEVENT
END:VCALENDAR