BEGIN:VCALENDAR
VERSION:2.0
PRODID:-//eventon.com NONSGML v1.0//EN
BEGIN:VEVENT
UID:69eccc634c55e
DTSTAMP:20260425T161459
DTSTART:20161005T190000Z
DTEND:20161005T203000Z
LOCATION:Parroquia de San Eufrasio Plaza San Félix\,  1\,  Jaén
SUMMARY:Quinario a María Stma. Reina de los Ángeles - Día 1
DESCRIPTION: Quinario a María Stma. Reina de los Ángeles - Día 1
URL:https://pasionenjaen.com/events/quinario-a-maria-stma-reina-de-los-angeles-dia-1/
END:VEVENT
END:VCALENDAR