BEGIN:VCALENDAR
VERSION:2.0
PRODID:-//eventon.com NONSGML v1.0//EN
BEGIN:VEVENT
UID:69ece1a2ba386
DTSTAMP:20260425T174538
DTSTART:20161001T200000Z
DTEND:20161001T210000Z
LOCATION:Parroquia de San Bartolomé Plaza de San Bartolomé\,  Jaén
SUMMARY:Rosario Vespertino María Stma. de las Siete Palabras
DESCRIPTION: Rosario Vespertino María Stma. de las Siete Palabras
URL:https://pasionenjaen.com/events/rosario-vespertino-maria-stma-de-las-siete-palabras/
END:VEVENT
END:VCALENDAR