BEGIN:VCALENDAR
VERSION:2.0
PRODID:-//eventon.com NONSGML v1.0//EN
BEGIN:VEVENT
UID:69ecf7a80581a
DTSTAMP:20260425T191936
DTSTART:20161001T103000Z
DTEND:20161001T193000Z
LOCATION:Parroquia de San Eufrasio Plaza San Félix\,  1\,  Jaén
SUMMARY:Besamanos a María Santísima Reina de los Ángeles
DESCRIPTION: De 10:30 a 13 horas\,  y de 17:30 a 19:30 horas.
URL:https://pasionenjaen.com/events/besamanos-a-maria-santisima-reina-de-los-angeles/
END:VEVENT
END:VCALENDAR