BEGIN:VCALENDAR
VERSION:2.0
PRODID:-//eventon.com NONSGML v1.0//EN
BEGIN:VEVENT
UID:69ed24d62a206
DTSTAMP:20260425T223222
DTSTART:20161002T120000Z
DTEND:20161002T123000Z
LOCATION:Salón Mudéjar Calle Maestra\,  18-20\,  23002 Jaén
SUMMARY:Concierto de la Banda de Cc y Tt Nazareno de Torredelcampo
DESCRIPTION: Pasacalles desde la plaza de Santa María a las 11:45 horas.
URL:https://pasionenjaen.com/events/concierto-de-la-banda-de-cc-y-tt-nazareno-de-torredelcampo/
END:VEVENT
END:VCALENDAR