BEGIN:VCALENDAR
VERSION:2.0
PRODID:-//eventon.com NONSGML v1.0//EN
BEGIN:VEVENT
UID:69ed2582867da
DTSTAMP:20260425T223514
DTSTART:20161002T123000Z
DTEND:20161002T133000Z
LOCATION:Salón Mudéjar Calle Maestra\,  18-20\,  23002 Jaén
SUMMARY:I Exaltación Mariana a María Santísima Reina de los Ángeles
DESCRIPTION: A cargo de D. Ramón Molina Navarrete.
URL:https://pasionenjaen.com/events/i-exaltacion-mariana-a-maria-santisima-reina-de-los-angeles/
END:VEVENT
END:VCALENDAR