BEGIN:VCALENDAR
VERSION:2.0
PRODID:-//eventon.com NONSGML v1.0//EN
BEGIN:VEVENT
UID:69ed3d90dcb29
DTSTAMP:20260426T001752
DTSTART:20161126T210000Z
DTEND:20161126T220000Z
LOCATION:Parroquia de Cristo Rey Cristo Rey 2\,  Jaén
SUMMARY:V Pregón de Exaltación a María Santísima de la Esperanza
DESCRIPTION: V Pregón de Exaltación a María Santísima de la Esperanza
URL:https://pasionenjaen.com/events/v-pregon-de-exaltacion-a-maria-santisima-de-la-esperanza/
END:VEVENT
END:VCALENDAR