BEGIN:VCALENDAR
VERSION:2.0
PRODID:-//eventon.com NONSGML v1.0//EN
BEGIN:VEVENT
UID:69ed542ab04ec
DTSTAMP:20260426T015418
DTSTART:20160926T200000Z
DTEND:20160926T210000Z
LOCATION:Sacristía de la S.I. Catedral Plaza de Santa María\,  s/n\,  23002 Jaén
SUMMARY:Presentación de Nuestra Señora de las Angustias tras su restauración
DESCRIPTION: Restauración realizada por el restaurador licenciado en Bellas Artes\,   D. Néstor Prieto Jiménez.
URL:https://pasionenjaen.com/events/presentacion-de-nuestra-senora-de-las-angustias-tras-su-restauracion/
END:VEVENT
END:VCALENDAR