BEGIN:VCALENDAR
VERSION:2.0
PRODID:-//eventon.com NONSGML v1.0//EN
BEGIN:VEVENT
UID:69ed94eb5def4
DTSTAMP:20260426T063035
DTSTART:20160924T193000Z
DTEND:20160924T203000Z
LOCATION:Parroquia de San Miguel C/ Arquitecto Berges\, 14-23007 Jaén
SUMMARY:Triduo a María Santísima Reina de los Cielos - Día 2
DESCRIPTION: Triduo a María Santísima Reina de los Cielos - Día 2
URL:https://pasionenjaen.com/events/triduo-a-maria-santisima-reina-de-los-cielos-dia-2-2/
END:VEVENT
END:VCALENDAR